BEGIN:VCALENDAR
VERSION:2.0
PRODID:-//nebraskamainstreet.org//NONSGML kigkonsult.se iCalcreator 2.30.10
 //
CALSCALE:GREGORIAN
METHOD:PUBLISH
UID:d3bb8068-5730-41c8-a236-3cc34d8449dc
X-WR-CALDESC:Join us\, rain or shine\, for Farmers Market on the corner of 
 6th & High streets.\nWe have a wide variety of produce\, breads\, cupcakes
 \, james\, jellies\, resin items\, crochet items\, wood items\, flowers\, 
 honey\, and SO much more!\n\nIf you'd like to be a vendor\, please reach o
 ut to us either via messenger or at info@mainstreetbeatrice.org or 402-223
 -3244! You do not have to be a vendor every week & you can join at any tim
 e.
X-WR-RELCALID:f60b48685b9ba900600d8adb1591ffa0
X-WR-TIMEZONE:America/Chicago
BEGIN:VTIMEZONE
TZID:America/Chicago
BEGIN:STANDARD
TZNAME:CST
DTSTART:20231105T020000
TZOFFSETFROM:-0500
TZOFFSETTO:-0600
RDATE:20241103T020000
RDATE:20251102T020000
END:STANDARD
BEGIN:DAYLIGHT
TZNAME:CDT
DTSTART:20240310T020000
TZOFFSETFROM:-0600
TZOFFSETTO:-0500
RDATE:20250309T020000
END:DAYLIGHT
END:VTIMEZONE
BEGIN:VEVENT
UID:484dbbc1-13bd-40e1-85bb-f98830f6faf6
DTSTAMP:20260423T182736Z
DESCRIPTION:Join us\, rain or shine\, for Farmers Market on the corner of 6
 th & High streets.\nWe have a wide variety of produce\, breads\, cupcakes\
 , james\, jellies\, resin items\, crochet items\, wood items\, flowers\, h
 oney\, and SO much more!\n\nIf you'd like to be a vendor\, please reach ou
 t to us either via messenger or at info@mainstreetbeatrice.org or 402-223-
 3244! You do not have to be a vendor every week & you can join at any time
 .
DTSTART;TZID=America/Chicago:20240905T160000
DTEND;TZID=America/Chicago:20240905T183000
LOCATION:318 N 6th\, Beatrice\, NE 68310 US
SUMMARY:Beatrice Farmers Market
END:VEVENT
END:VCALENDAR
